BEGIN:VCALENDAR
VERSION:2.0
PRODID:-//Mullingar Chamber - ECPv4.6.2//NONSGML v1.0//EN
CALSCALE:GREGORIAN
METHOD:PUBLISH
X-WR-CALNAME:Mullingar Chamber
X-ORIGINAL-URL:http://mullingarchamber.ie
X-WR-CALDESC:Events for Mullingar Chamber
BEGIN:VEVENT
DTSTART;VALUE=DATE:20171207
DTEND;VALUE=DATE:20171211
DTSTAMP:20171026T184302
CREATED:20171004T091052Z
LAST-MODIFIED:20171004T091052Z
UID:19475-1512604800-1512950399@mullingarchamber.ie
SUMMARY:Mullingar Christmas Market
DESCRIPTION:Mullingar Chamber in conjunction with Westmeath County Council is delighted to announce the fourth annual Christmas Market Mullingar. The Market will take place from Thursday 7th to Sunday 10th December. We thrive on the co-operation and support of the townâ€™s retail and business community working alongside Westmeath County Council.  Full details will be confirmed with co-operation of all stakeholders. \nChristmas Market Mullingar has been developed to become the main Christmas family extravaganza event of the Midlands region. With fine food & drink as well as many great childrenâ€™s attractions all weekend long\, this has fast become the â€śmust attendâ€ť event in the Midlands at Christmas Time. \nFor further information contact events@mullingarchamber.ie or visit www.christmasmarketmullingar.ie \n
URL:http://mullingarchamber.ie/event/mullingar-christmas-market/
LOCATION:Mullingar\, Co. Westmeath\, Ireland
CATEGORIES:Christmas
ATTACH;FMTTYPE=image/jpeg:http://mullingarchamber.ie/wp-content/uploads/2016/12/Mullingar-Christmas-Market-2016-2.jpg
ORGANIZER;CN="Mullingar%20Chamber%20of%20Commerce":MAILTO:events@mullingarchamber.ie
END:VEVENT
END:VCALENDAR